BEGIN:VCALENDAR
VERSION:2.0
PRODID:-//hacksw/handcal//NONSGML v1.0//EN
BEGIN:VEVENT
SUMMARY:Danse en ligne avec Isabelle tous les lundis de 19h15 a 20h15 sauf vacances scolaire
UID:389bb9e7-e39c-4748-ac72-e4e6b8192d10
DTSTART:20260302T181500Z
DTEND:20260324T191500Z
LOCATION:Localisation   
CATEGORIES:Sportif
STATUS:
URL;VALUE=URI:https://danseplaisir.sportsregions.fr/evenements/2026/03/02/danse-en-ligne-avec-isabelle-tous-les-lundis-de-19h15-a-20h15-sauf-vacances-scolaire-2348124
END:VEVENT
END:VCALENDAR
