BEGIN:VCALENDAR
VERSION:2.0
PRODID:-//hacksw/handcal//NONSGML v1.0//EN
BEGIN:VEVENT
SUMMARY:Danse en ligne avec Isabelle tous les lundis de 19h15 a 20h15 sauf vacances scolaire
UID:6d65ae06-59e6-4aaa-9d52-51f8cb91ff1e
DTSTART:20260309T181500Z
DTEND:20260331T181500Z
LOCATION:Localisation   
CATEGORIES:Sportif
STATUS:
URL;VALUE=URI:https://danseplaisir.sportsregions.fr/evenements/2026/03/09/danse-en-ligne-avec-isabelle-tous-les-lundis-de-19h15-a-20h15-sauf-vacances-scolaire-2348125
END:VEVENT
END:VCALENDAR
