BEGIN:VCALENDAR
VERSION:2.0
PRODID:-//hacksw/handcal//NONSGML v1.0//EN
BEGIN:VEVENT
SUMMARY:Danse en ligne avec Isabelle tous les lundis de 19h15 a 20h15 sauf vacances scolaire
UID:9fa8504c-298a-4c2c-97fb-c6bffbbf9fdb
DTSTART:20260316T181500Z
DTEND:20260407T181500Z
LOCATION:Localisation   
CATEGORIES:Sportif
STATUS:
URL;VALUE=URI:https://danseplaisir.sportsregions.fr/evenements/2026/03/16/danse-en-ligne-avec-isabelle-tous-les-lundis-de-19h15-a-20h15-sauf-vacances-scolaire-2348126
END:VEVENT
END:VCALENDAR
