BEGIN:VCALENDAR
VERSION:2.0
PRODID:-//hacksw/handcal//NONSGML v1.0//EN
BEGIN:VEVENT
SUMMARY:Danse en ligne avec Isabelle tous les lundis de 19h15 a 20h15 sauf vacances scolaire
UID:f43a595e-0649-4fc9-a52c-557135606886
DTSTART:20260330T171500Z
DTEND:20260421T181500Z
LOCATION:Localisation   
CATEGORIES:Sportif
STATUS:
URL;VALUE=URI:https://danseplaisir.sportsregions.fr/evenements/2026/03/30/danse-en-ligne-avec-isabelle-tous-les-lundis-de-19h15-a-20h15-sauf-vacances-scolaire-2348128
END:VEVENT
END:VCALENDAR
