BEGIN:VCALENDAR
VERSION:2.0
PRODID:-//hacksw/handcal//NONSGML v1.0//EN
BEGIN:VEVENT
SUMMARY:Danse en ligne avec Isabelle tous les lundis de 19h15 a 20h15 sauf vacances scolaire
UID:267a5dea-1a71-4a47-9994-3a8b1e32c9b7
DTSTART:20260420T171500Z
DTEND:20260512T181500Z
LOCATION:Localisation   
CATEGORIES:Sportif
STATUS:
URL;VALUE=URI:https://danseplaisir.sportsregions.fr/evenements/2026/04/20/danse-en-ligne-avec-isabelle-tous-les-lundis-de-19h15-a-20h15-sauf-vacances-scolaire-2348129
END:VEVENT
END:VCALENDAR
